BEGIN:VCALENDAR
VERSION:2.0
PRODID:-//Willesden Seventh-day Adventist Church - ECPv6.1.3//NONSGML v1.0//EN
CALSCALE:GREGORIAN
METHOD:PUBLISH
X-WR-CALNAME:Willesden Seventh-day Adventist Church
X-ORIGINAL-URL:https://www.willesden-adventist.com
X-WR-CALDESC:Events for Willesden Seventh-day Adventist Church
REFRESH-INTERVAL;VALUE=DURATION:PT1H
X-Robots-Tag:noindex
X-PUBLISHED-TTL:PT1H
BEGIN:VTIMEZONE
TZID:Europe/London
BEGIN:DAYLIGHT
TZOFFSETFROM:+0000
TZOFFSETTO:+0100
TZNAME:BST
DTSTART:20220327T010000
END:DAYLIGHT
BEGIN:STANDARD
TZOFFSETFROM:+0100
TZOFFSETTO:+0000
TZNAME:GMT
DTSTART:20221030T010000
END:STANDARD
BEGIN:DAYLIGHT
TZOFFSETFROM:+0000
TZOFFSETTO:+0100
TZNAME:BST
DTSTART:20230326T010000
END:DAYLIGHT
BEGIN:STANDARD
TZOFFSETFROM:+0100
TZOFFSETTO:+0000
TZNAME:GMT
DTSTART:20231029T010000
END:STANDARD
BEGIN:DAYLIGHT
TZOFFSETFROM:+0000
TZOFFSETTO:+0100
TZNAME:BST
DTSTART:20240331T010000
END:DAYLIGHT
BEGIN:STANDARD
TZOFFSETFROM:+0100
TZOFFSETTO:+0000
TZNAME:GMT
DTSTART:20241027T010000
END:STANDARD
END:VTIMEZONE
BEGIN:VEVENT
DTSTART;VALUE=DATE:20240406
DTEND;VALUE=DATE:20240407
DTSTAMP:20260420T011836
CREATED:20240216T232312Z
LAST-MODIFIED:20240216T232554Z
UID:5113-1712361600-1712447999@www.willesden-adventist.com
SUMMARY:Majesty Of Praise
DESCRIPTION:[vc_row][vc_column width=”1/2″][vc_column_text]Willesden Seventh-day Adventist Church presents Majesty Of Praise on Saturday 6th April starting at 9.30am. \n  \nAll proceeds will be in aid of the Kitson Town Seventh-Day\nAdventist Church\, based in St Catherine\, Jamaica.\nThe funds will help to procure audio-visual equipment to provide quality streaming and also a roof repair project.[/vc_column_text][/vc_column][vc_column width=”1/2″][vc_single_image image=”5114″ img_size=”full” onclick=”link_image”][/vc_column][/vc_row]
URL:https://www.willesden-adventist.com/event/majesty-of-praise/
LOCATION:Willesden Seventh-day Adventist Church\, 1 Glebe Road\, Willesden\, London\, NW10 2JD\, United Kingdom
ATTACH;FMTTYPE=image/jpeg:https://www.willesden-adventist.com/wp-content/uploads/2024/02/WhatsApp-Image-2024-02-16-at-18.44.07.jpeg
END:VEVENT
BEGIN:VEVENT
DTSTART;VALUE=DATE:20231118
DTEND;VALUE=DATE:20231126
DTSTAMP:20260420T011836
CREATED:20231111T141600Z
LAST-MODIFIED:20231111T141602Z
UID:5040-1700265600-1700956799@www.willesden-adventist.com
SUMMARY:Let The Bible Speak Seminar
DESCRIPTION:[vc_row][vc_column][vc_video link=”https://www.youtube.com/watch?v=H_nWA-RW5jk”][/vc_column][/vc_row]
URL:https://www.willesden-adventist.com/event/let-the-bible-speak-seminar/
LOCATION:Willesden Seventh-day Adventist Church\, 1 Glebe Road\, Willesden\, London\, NW10 2JD\, United Kingdom
CATEGORIES:Personal Ministries
ATTACH;FMTTYPE=image/jpeg:https://www.willesden-adventist.com/wp-content/uploads/2023/11/Let-The-Bible-Speak.jpg
END:VEVENT
BEGIN:VEVENT
DTSTART;VALUE=DATE:20231103
DTEND;VALUE=DATE:20231106
DTSTAMP:20260420T011836
CREATED:20230710T165942Z
LAST-MODIFIED:20230928T181105Z
UID:4931-1698969600-1699228799@www.willesden-adventist.com
SUMMARY:Renewed by the Spirit: We Can Work Together - Prayer Retreat
DESCRIPTION:[vc_row css=”.vc_custom_1689061185053{margin-top: 0px !important;margin-bottom: 0px !important;padding-top: 0px !important;padding-bottom: 0px !important;}” el_class=”smallpadding”][vc_column][vc_column_text] \nIn these troubled times prayer is paramount.  Join the Willesden SDA Prayer Ministry for a spirit filled Prayer Retreat weekend\, with inspirational speakers\, to include Pastor Richard James. \nCome and unlock the power of prayer and experience God like never before. \nFrom 3-5 November 2023 \nKents Hill Park Training & Conference Centre\, Kents Hill Park\, Milton Keynes\, MK7 6BZ. \nSet in tranquil grounds\, with excellent transport links and ample free parking. \nSpaces are limited. Don’t miss out! \nCost £230 (all inclusive) allows access to the Centre’s Wellness facilities and more. \n\n[/vc_column_text][/vc_column][/vc_row][vc_row css=”.vc_custom_1689061010463{margin-top: 0px !important;padding-top: 0px !important;}” el_class=”smallpadding”][vc_column width=”2/3″][/vc_column][vc_column width=”1/3″][vc_single_image image=”4938″ img_size=”full”][/vc_column][/vc_row]
URL:https://www.willesden-adventist.com/event/renewed-by-the-spirit-we-can-work-together-prayer-retreat/
LOCATION:Kents Hill Park Training & Conference Centre\, Milton Keynes\, MK7 6BZ
CATEGORIES:Prayer
ATTACH;FMTTYPE=image/jpeg:https://www.willesden-adventist.com/wp-content/uploads/2023/07/Prayer-Retreat-2023-Landscape-Promo.jpg
END:VEVENT
BEGIN:VEVENT
DTSTART;VALUE=DATE:20230722
DTEND;VALUE=DATE:20230723
DTSTAMP:20260420T011836
CREATED:20230701T101411Z
LAST-MODIFIED:20230701T101411Z
UID:4916-1689984000-1690070399@www.willesden-adventist.com
SUMMARY:We Are One In Christ - International Day
DESCRIPTION:
URL:https://www.willesden-adventist.com/event/we-are-one-in-christ-international-day/
LOCATION:Willesden Seventh-day Adventist Church\, 1 Glebe Road\, Willesden\, London\, NW10 2JD\, United Kingdom
ATTACH;FMTTYPE=image/jpeg:https://www.willesden-adventist.com/wp-content/uploads/2023/07/International-Day-23.jpg
END:VEVENT
BEGIN:VEVENT
DTSTART;TZID=Europe/London:20230318T153000
DTEND;TZID=Europe/London:20230318T173000
DTSTAMP:20260420T011836
CREATED:20230310T204248Z
LAST-MODIFIED:20230310T204341Z
UID:4832-1679153400-1679160600@www.willesden-adventist.com
SUMMARY:Young People Can Make A Difference - Global Youth Day
DESCRIPTION:[vc_row][vc_column][vc_single_image image=”4830″ img_size=”full” onclick=”link_image”][/vc_column][/vc_row]
URL:https://www.willesden-adventist.com/event/young-people-can-make-a-difference-global-youth-day/
LOCATION:Willesden Seventh-day Adventist Church\, 1 Glebe Road\, Willesden\, London\, NW10 2JD\, United Kingdom
CATEGORIES:Youth
ATTACH;FMTTYPE=image/jpeg:https://www.willesden-adventist.com/wp-content/uploads/2023/03/Love-Is-A-Verb-PM.jpg
END:VEVENT
BEGIN:VEVENT
DTSTART;TZID=Europe/London:20230318T094500
DTEND;TZID=Europe/London:20230318T130000
DTSTAMP:20260420T011836
CREATED:20230310T203955Z
LAST-MODIFIED:20230310T204427Z
UID:4828-1679132700-1679144400@www.willesden-adventist.com
SUMMARY:Love Is A Verb - Global Youth Day
DESCRIPTION:[vc_row][vc_column][vc_single_image image=”4829″ img_size=”full”][/vc_column][/vc_row]
URL:https://www.willesden-adventist.com/event/love-is-a-verb-global-youth-day/
LOCATION:Willesden Seventh-day Adventist Church\, 1 Glebe Road\, Willesden\, London\, NW10 2JD\, United Kingdom
CATEGORIES:Youth
ATTACH;FMTTYPE=image/jpeg:https://www.willesden-adventist.com/wp-content/uploads/2023/03/Love-Is-A-Verb-AM.jpg
END:VEVENT
BEGIN:VEVENT
DTSTART;TZID=Europe/London:20220320T130000
DTEND;TZID=Europe/London:20220320T160000
DTSTAMP:20260420T011836
CREATED:20220318T095528Z
LAST-MODIFIED:20220505T211111Z
UID:4260-1647781200-1647792000@www.willesden-adventist.com
SUMMARY:Come Sign With Me
DESCRIPTION:
URL:https://www.willesden-adventist.com/event/come-sign-with-me/
LOCATION:Willesden Seventh-day Adventist Church\, 1 Glebe Road\, Willesden\, London\, NW10 2JD\, United Kingdom
CATEGORIES:Possibilities Ministries
ATTACH;FMTTYPE=image/jpeg:https://www.willesden-adventist.com/wp-content/uploads/2022/03/comesignwithmeThumb.jpg
END:VEVENT
BEGIN:VEVENT
DTSTART;VALUE=DATE:20221216
DTEND;VALUE=DATE:20221219
DTSTAMP:20260420T011836
CREATED:20220331T141211Z
LAST-MODIFIED:20220512T112813Z
UID:4300-1671148800-1671407999@www.willesden-adventist.com
SUMMARY:Prayer Ministries Retreat: Empowered by the Holy Spirit
DESCRIPTION:[vc_row][vc_column][vc_column_text]Willesden’s 24-hour prayer line presents \nEmpowered by the Holy Spirit \nwith Pastor Royston Philbert\, \nRegister now: https://forms.gle/HSPxWhT1M99A6G1T6 \n  \n \n[/vc_column_text][/vc_column][/vc_row]
URL:https://www.willesden-adventist.com/event/prayer-ministries-retreat-empowered-by-the-holy-spirit/
LOCATION:High Leigh Conference Centre\, Lord Street\, Hoddesdon\, Herts\, United Kingdom
CATEGORIES:Prayer
ATTACH;FMTTYPE=image/jpeg:https://www.willesden-adventist.com/wp-content/uploads/2022/03/prayerRetreat.jpg
END:VEVENT
BEGIN:VEVENT
DTSTART;TZID=Europe/London:20220507T133000
DTEND;TZID=Europe/London:20220507T150000
DTSTAMP:20260420T011836
CREATED:20220505T210539Z
LAST-MODIFIED:20220507T073637Z
UID:4361-1651930200-1651935600@www.willesden-adventist.com
SUMMARY:Community Prayer Walk
DESCRIPTION:Put on your walking shoes and join us for a 1-hour Community Prayer Walk every first Sabbath of the month.
URL:https://www.willesden-adventist.com/event/community-prayer-walk/
LOCATION:Willesden Seventh-day Adventist Church\, 1 Glebe Road\, Willesden\, London\, NW10 2JD\, United Kingdom
CATEGORIES:STEPERS
ATTACH;FMTTYPE=image/jpeg:https://www.willesden-adventist.com/wp-content/uploads/2022/05/prayerWalkThumb.jpg
END:VEVENT
BEGIN:VEVENT
DTSTART;TZID=Europe/London:20221122T043000
DTEND;TZID=Europe/London:20221122T043000
DTSTAMP:20260420T011836
CREATED:20221104T184133Z
LAST-MODIFIED:20221104T184346Z
UID:4711-1669091400-1669091400@www.willesden-adventist.com
SUMMARY:Now Is The Time Series
DESCRIPTION:
URL:https://www.willesden-adventist.com/event/now-is-the-time-series/
LOCATION:Willesden Seventh-day Adventist Church\, 1 Glebe Road\, Willesden\, London\, NW10 2JD\, United Kingdom
ATTACH;FMTTYPE=image/jpeg:https://www.willesden-adventist.com/wp-content/uploads/2022/11/Campaign-Flyer-EventThumb.jpg
END:VEVENT
BEGIN:VEVENT
DTSTART;TZID=Europe/London:20221122T043000
DTEND;TZID=Europe/London:20221122T043000
DTSTAMP:20260420T011836
CREATED:20221104T184133Z
LAST-MODIFIED:20221104T184346Z
UID:4711-1669091400-1669091400@www.willesden-adventist.com
SUMMARY:Now Is The Time Series
DESCRIPTION:
URL:https://www.willesden-adventist.com/event/now-is-the-time-series/
LOCATION:Willesden Seventh-day Adventist Church\, 1 Glebe Road\, Willesden\, London\, NW10 2JD\, United Kingdom
ATTACH;FMTTYPE=image/jpeg:https://www.willesden-adventist.com/wp-content/uploads/2022/11/Campaign-Flyer-EventThumb.jpg
END:VEVENT
BEGIN:VEVENT
DTSTART;TZID=Europe/London:20221122T043000
DTEND;TZID=Europe/London:20221122T043000
DTSTAMP:20260420T011836
CREATED:20221104T184133Z
LAST-MODIFIED:20221104T184346Z
UID:4711-1669091400-1669091400@www.willesden-adventist.com
SUMMARY:Now Is The Time Series
DESCRIPTION:
URL:https://www.willesden-adventist.com/event/now-is-the-time-series/
LOCATION:Willesden Seventh-day Adventist Church\, 1 Glebe Road\, Willesden\, London\, NW10 2JD\, United Kingdom
ATTACH;FMTTYPE=image/jpeg:https://www.willesden-adventist.com/wp-content/uploads/2022/11/Campaign-Flyer-EventThumb.jpg
END:VEVENT
BEGIN:VEVENT
DTSTART;TZID=Europe/London:20221122T043000
DTEND;TZID=Europe/London:20221122T043000
DTSTAMP:20260420T011836
CREATED:20221104T184133Z
LAST-MODIFIED:20221104T184346Z
UID:4711-1669091400-1669091400@www.willesden-adventist.com
SUMMARY:Now Is The Time Series
DESCRIPTION:
URL:https://www.willesden-adventist.com/event/now-is-the-time-series/
LOCATION:Willesden Seventh-day Adventist Church\, 1 Glebe Road\, Willesden\, London\, NW10 2JD\, United Kingdom
ATTACH;FMTTYPE=image/jpeg:https://www.willesden-adventist.com/wp-content/uploads/2022/11/Campaign-Flyer-EventThumb.jpg
END:VEVENT
BEGIN:VEVENT
DTSTART;TZID=Europe/London:20221122T043000
DTEND;TZID=Europe/London:20221122T043000
DTSTAMP:20260420T011836
CREATED:20221104T184133Z
LAST-MODIFIED:20221104T184346Z
UID:4711-1669091400-1669091400@www.willesden-adventist.com
SUMMARY:Now Is The Time Series
DESCRIPTION:
URL:https://www.willesden-adventist.com/event/now-is-the-time-series/
LOCATION:Willesden Seventh-day Adventist Church\, 1 Glebe Road\, Willesden\, London\, NW10 2JD\, United Kingdom
ATTACH;FMTTYPE=image/jpeg:https://www.willesden-adventist.com/wp-content/uploads/2022/11/Campaign-Flyer-EventThumb.jpg
END:VEVENT
BEGIN:VEVENT
DTSTART;TZID=Europe/London:20221122T043000
DTEND;TZID=Europe/London:20221122T043000
DTSTAMP:20260420T011836
CREATED:20221104T184133Z
LAST-MODIFIED:20221104T184346Z
UID:4711-1669091400-1669091400@www.willesden-adventist.com
SUMMARY:Now Is The Time Series
DESCRIPTION:
URL:https://www.willesden-adventist.com/event/now-is-the-time-series/
LOCATION:Willesden Seventh-day Adventist Church\, 1 Glebe Road\, Willesden\, London\, NW10 2JD\, United Kingdom
ATTACH;FMTTYPE=image/jpeg:https://www.willesden-adventist.com/wp-content/uploads/2022/11/Campaign-Flyer-EventThumb.jpg
END:VEVENT
BEGIN:VEVENT
DTSTART;TZID=Europe/London:20221122T043000
DTEND;TZID=Europe/London:20221122T043000
DTSTAMP:20260420T011836
CREATED:20221104T184133Z
LAST-MODIFIED:20221104T184346Z
UID:4711-1669091400-1669091400@www.willesden-adventist.com
SUMMARY:Now Is The Time Series
DESCRIPTION:
URL:https://www.willesden-adventist.com/event/now-is-the-time-series/
LOCATION:Willesden Seventh-day Adventist Church\, 1 Glebe Road\, Willesden\, London\, NW10 2JD\, United Kingdom
ATTACH;FMTTYPE=image/jpeg:https://www.willesden-adventist.com/wp-content/uploads/2022/11/Campaign-Flyer-EventThumb.jpg
END:VEVENT
BEGIN:VEVENT
DTSTART;TZID=Europe/London:20221122T043000
DTEND;TZID=Europe/London:20221122T043000
DTSTAMP:20260420T011836
CREATED:20221104T184133Z
LAST-MODIFIED:20221104T184346Z
UID:4711-1669091400-1669091400@www.willesden-adventist.com
SUMMARY:Now Is The Time Series
DESCRIPTION:
URL:https://www.willesden-adventist.com/event/now-is-the-time-series/
LOCATION:Willesden Seventh-day Adventist Church\, 1 Glebe Road\, Willesden\, London\, NW10 2JD\, United Kingdom
ATTACH;FMTTYPE=image/jpeg:https://www.willesden-adventist.com/wp-content/uploads/2022/11/Campaign-Flyer-EventThumb.jpg
END:VEVENT
BEGIN:VEVENT
DTSTART;TZID=Europe/London:20220320T130000
DTEND;TZID=Europe/London:20220320T160000
DTSTAMP:20260420T011836
CREATED:20220318T095528Z
LAST-MODIFIED:20220505T211111Z
UID:4260-1647781200-1647792000@www.willesden-adventist.com
SUMMARY:Come Sign With Me
DESCRIPTION:
URL:https://www.willesden-adventist.com/event/come-sign-with-me/
LOCATION:Willesden Seventh-day Adventist Church\, 1 Glebe Road\, Willesden\, London\, NW10 2JD\, United Kingdom
CATEGORIES:Possibilities Ministries
ATTACH;FMTTYPE=image/jpeg:https://www.willesden-adventist.com/wp-content/uploads/2022/03/comesignwithmeThumb.jpg
END:VEVENT
BEGIN:VEVENT
DTSTART;TZID=Europe/London:20221122T043000
DTEND;TZID=Europe/London:20221122T043000
DTSTAMP:20260420T011836
CREATED:20221104T184133Z
LAST-MODIFIED:20221104T184346Z
UID:4711-1669091400-1669091400@www.willesden-adventist.com
SUMMARY:Now Is The Time Series
DESCRIPTION:
URL:https://www.willesden-adventist.com/event/now-is-the-time-series/
LOCATION:Willesden Seventh-day Adventist Church\, 1 Glebe Road\, Willesden\, London\, NW10 2JD\, United Kingdom
ATTACH;FMTTYPE=image/jpeg:https://www.willesden-adventist.com/wp-content/uploads/2022/11/Campaign-Flyer-EventThumb.jpg
END:VEVENT
BEGIN:VEVENT
DTSTART;TZID=Europe/London:20221122T043000
DTEND;TZID=Europe/London:20221122T043000
DTSTAMP:20260420T011836
CREATED:20221104T184133Z
LAST-MODIFIED:20221104T184346Z
UID:4711-1669091400-1669091400@www.willesden-adventist.com
SUMMARY:Now Is The Time Series
DESCRIPTION:
URL:https://www.willesden-adventist.com/event/now-is-the-time-series/
LOCATION:Willesden Seventh-day Adventist Church\, 1 Glebe Road\, Willesden\, London\, NW10 2JD\, United Kingdom
ATTACH;FMTTYPE=image/jpeg:https://www.willesden-adventist.com/wp-content/uploads/2022/11/Campaign-Flyer-EventThumb.jpg
END:VEVENT
BEGIN:VEVENT
DTSTART;TZID=Europe/London:20220507T133000
DTEND;TZID=Europe/London:20220507T150000
DTSTAMP:20260420T011836
CREATED:20220505T210539Z
LAST-MODIFIED:20220507T073637Z
UID:4361-1651930200-1651935600@www.willesden-adventist.com
SUMMARY:Community Prayer Walk
DESCRIPTION:Put on your walking shoes and join us for a 1-hour Community Prayer Walk every first Sabbath of the month.
URL:https://www.willesden-adventist.com/event/community-prayer-walk/
LOCATION:Willesden Seventh-day Adventist Church\, 1 Glebe Road\, Willesden\, London\, NW10 2JD\, United Kingdom
CATEGORIES:STEPERS
ATTACH;FMTTYPE=image/jpeg:https://www.willesden-adventist.com/wp-content/uploads/2022/05/prayerWalkThumb.jpg
END:VEVENT
BEGIN:VEVENT
DTSTART;TZID=Europe/London:20221105T094500
DTEND;TZID=Europe/London:20221105T133000
DTSTAMP:20260420T011836
CREATED:20221014T220156Z
LAST-MODIFIED:20221014T220156Z
UID:4688-1667641500-1667655000@www.willesden-adventist.com
SUMMARY:Sabbath School Homecoming Day
DESCRIPTION:
URL:https://www.willesden-adventist.com/event/sabbath-school-homecoming-day/
LOCATION:Willesden Seventh-day Adventist Church\, 1 Glebe Road\, Willesden\, London\, NW10 2JD\, United Kingdom
CATEGORIES:Sabbath School
ATTACH;FMTTYPE=image/jpeg:https://www.willesden-adventist.com/wp-content/uploads/2022/10/Homecoming-Poster.jpg
END:VEVENT
BEGIN:VEVENT
DTSTART;TZID=Europe/London:20221021T193000
DTEND;TZID=Europe/London:20221021T203000
DTSTAMP:20260420T011836
CREATED:20221014T215407Z
LAST-MODIFIED:20221014T215407Z
UID:4682-1666380600-1666384200@www.willesden-adventist.com
SUMMARY:Black History Celebration Weekend
DESCRIPTION:[vc_row][vc_column width=”1/2″][vc_column_text]Friday 21st October\n7.00 – 8.30pm\nReflections on contributions made by black Adventists & others. \nSaturday 22nd October\n10.00 – 12.45pm / 4.00 – 6.00pm \n\nBlack people in the Bible\nCelebration through creativity.\n\nSunday 23rd October\n12.00 – 4.00pm \n\nHealth checks\nFood & snack stalls\nCrafts\nBusinesses showcase\n\n[/vc_column_text][/vc_column][vc_column width=”1/2″][vc_single_image image=”4684″ img_size=”full”][/vc_column][/vc_row]
URL:https://www.willesden-adventist.com/event/black-history-celebration-weekend/
LOCATION:Willesden Seventh-day Adventist Church\, 1 Glebe Road\, Willesden\, London\, NW10 2JD\, United Kingdom
CATEGORIES:Education Ministries
ATTACH;FMTTYPE=image/png:https://www.willesden-adventist.com/wp-content/uploads/2022/10/Black-History-Weekend-web.png
END:VEVENT
BEGIN:VEVENT
DTSTART;TZID=Europe/London:20221021T193000
DTEND;TZID=Europe/London:20221021T203000
DTSTAMP:20260420T011836
CREATED:20221014T215407Z
LAST-MODIFIED:20221014T215407Z
UID:4682-1666380600-1666384200@www.willesden-adventist.com
SUMMARY:Black History Celebration Weekend
DESCRIPTION:[vc_row][vc_column width=”1/2″][vc_column_text]Friday 21st October\n7.00 – 8.30pm\nReflections on contributions made by black Adventists & others. \nSaturday 22nd October\n10.00 – 12.45pm / 4.00 – 6.00pm \n\nBlack people in the Bible\nCelebration through creativity.\n\nSunday 23rd October\n12.00 – 4.00pm \n\nHealth checks\nFood & snack stalls\nCrafts\nBusinesses showcase\n\n[/vc_column_text][/vc_column][vc_column width=”1/2″][vc_single_image image=”4684″ img_size=”full”][/vc_column][/vc_row]
URL:https://www.willesden-adventist.com/event/black-history-celebration-weekend/
LOCATION:Willesden Seventh-day Adventist Church\, 1 Glebe Road\, Willesden\, London\, NW10 2JD\, United Kingdom
CATEGORIES:Education Ministries
ATTACH;FMTTYPE=image/png:https://www.willesden-adventist.com/wp-content/uploads/2022/10/Black-History-Weekend-web.png
END:VEVENT
BEGIN:VEVENT
DTSTART;TZID=Europe/London:20221021T193000
DTEND;TZID=Europe/London:20221021T203000
DTSTAMP:20260420T011836
CREATED:20221014T215407Z
LAST-MODIFIED:20221014T215407Z
UID:4682-1666380600-1666384200@www.willesden-adventist.com
SUMMARY:Black History Celebration Weekend
DESCRIPTION:[vc_row][vc_column width=”1/2″][vc_column_text]Friday 21st October\n7.00 – 8.30pm\nReflections on contributions made by black Adventists & others. \nSaturday 22nd October\n10.00 – 12.45pm / 4.00 – 6.00pm \n\nBlack people in the Bible\nCelebration through creativity.\n\nSunday 23rd October\n12.00 – 4.00pm \n\nHealth checks\nFood & snack stalls\nCrafts\nBusinesses showcase\n\n[/vc_column_text][/vc_column][vc_column width=”1/2″][vc_single_image image=”4684″ img_size=”full”][/vc_column][/vc_row]
URL:https://www.willesden-adventist.com/event/black-history-celebration-weekend/
LOCATION:Willesden Seventh-day Adventist Church\, 1 Glebe Road\, Willesden\, London\, NW10 2JD\, United Kingdom
CATEGORIES:Education Ministries
ATTACH;FMTTYPE=image/png:https://www.willesden-adventist.com/wp-content/uploads/2022/10/Black-History-Weekend-web.png
END:VEVENT
BEGIN:VEVENT
DTSTART;TZID=Europe/London:20220320T130000
DTEND;TZID=Europe/London:20220320T160000
DTSTAMP:20260420T011836
CREATED:20220318T095528Z
LAST-MODIFIED:20220505T211111Z
UID:4260-1647781200-1647792000@www.willesden-adventist.com
SUMMARY:Come Sign With Me
DESCRIPTION:
URL:https://www.willesden-adventist.com/event/come-sign-with-me/
LOCATION:Willesden Seventh-day Adventist Church\, 1 Glebe Road\, Willesden\, London\, NW10 2JD\, United Kingdom
CATEGORIES:Possibilities Ministries
ATTACH;FMTTYPE=image/jpeg:https://www.willesden-adventist.com/wp-content/uploads/2022/03/comesignwithmeThumb.jpg
END:VEVENT
BEGIN:VEVENT
DTSTART;TZID=Europe/London:20220507T133000
DTEND;TZID=Europe/London:20220507T150000
DTSTAMP:20260420T011836
CREATED:20220505T210539Z
LAST-MODIFIED:20220507T073637Z
UID:4361-1651930200-1651935600@www.willesden-adventist.com
SUMMARY:Community Prayer Walk
DESCRIPTION:Put on your walking shoes and join us for a 1-hour Community Prayer Walk every first Sabbath of the month.
URL:https://www.willesden-adventist.com/event/community-prayer-walk/
LOCATION:Willesden Seventh-day Adventist Church\, 1 Glebe Road\, Willesden\, London\, NW10 2JD\, United Kingdom
CATEGORIES:STEPERS
ATTACH;FMTTYPE=image/jpeg:https://www.willesden-adventist.com/wp-content/uploads/2022/05/prayerWalkThumb.jpg
END:VEVENT
BEGIN:VEVENT
DTSTART;TZID=Europe/London:20220320T130000
DTEND;TZID=Europe/London:20220320T160000
DTSTAMP:20260420T011836
CREATED:20220318T095528Z
LAST-MODIFIED:20220505T211111Z
UID:4260-1647781200-1647792000@www.willesden-adventist.com
SUMMARY:Come Sign With Me
DESCRIPTION:
URL:https://www.willesden-adventist.com/event/come-sign-with-me/
LOCATION:Willesden Seventh-day Adventist Church\, 1 Glebe Road\, Willesden\, London\, NW10 2JD\, United Kingdom
CATEGORIES:Possibilities Ministries
ATTACH;FMTTYPE=image/jpeg:https://www.willesden-adventist.com/wp-content/uploads/2022/03/comesignwithmeThumb.jpg
END:VEVENT
BEGIN:VEVENT
DTSTART;TZID=Europe/London:20220507T133000
DTEND;TZID=Europe/London:20220507T150000
DTSTAMP:20260420T011836
CREATED:20220505T210539Z
LAST-MODIFIED:20220507T073637Z
UID:4361-1651930200-1651935600@www.willesden-adventist.com
SUMMARY:Community Prayer Walk
DESCRIPTION:Put on your walking shoes and join us for a 1-hour Community Prayer Walk every first Sabbath of the month.
URL:https://www.willesden-adventist.com/event/community-prayer-walk/
LOCATION:Willesden Seventh-day Adventist Church\, 1 Glebe Road\, Willesden\, London\, NW10 2JD\, United Kingdom
CATEGORIES:STEPERS
ATTACH;FMTTYPE=image/jpeg:https://www.willesden-adventist.com/wp-content/uploads/2022/05/prayerWalkThumb.jpg
END:VEVENT
BEGIN:VEVENT
DTSTART;TZID=Europe/London:20220320T130000
DTEND;TZID=Europe/London:20220320T160000
DTSTAMP:20260420T011836
CREATED:20220318T095528Z
LAST-MODIFIED:20220505T211111Z
UID:4260-1647781200-1647792000@www.willesden-adventist.com
SUMMARY:Come Sign With Me
DESCRIPTION:
URL:https://www.willesden-adventist.com/event/come-sign-with-me/
LOCATION:Willesden Seventh-day Adventist Church\, 1 Glebe Road\, Willesden\, London\, NW10 2JD\, United Kingdom
CATEGORIES:Possibilities Ministries
ATTACH;FMTTYPE=image/jpeg:https://www.willesden-adventist.com/wp-content/uploads/2022/03/comesignwithmeThumb.jpg
END:VEVENT
END:VCALENDAR